Package: AlphaMissenseR Version: 1.5.3 Command: /home/biocbuild/R/R/bin/R CMD INSTALL AlphaMissenseR StartedAt: 2025-09-29 20:40:02 -0000 (Mon, 29 Sep 2025) EndedAt: 2025-09-29 20:40:24 -0000 (Mon, 29 Sep 2025) EllapsedTime: 22.3 seconds RetCode: 0 Status: OK