Package: AlphaMissenseR Version: 1.5.3 Command: rm -rf AlphaMissenseR.buildbin-libdir && mkdir AlphaMissenseR.buildbin-libdir && F:\biocbuild\bbs-3.22-bioc\R\bin\R.exe CMD INSTALL --build --library=AlphaMissenseR.buildbin-libdir AlphaMissenseR_1.5.3.tar.gz StartedAt: 2025-08-15 09:42:47 -0400 (Fri, 15 Aug 2025) EndedAt: 2025-08-15 09:43:42 -0400 (Fri, 15 Aug 2025) EllapsedTime: 54.5 seconds RetCode: 0 Status: OK PackageFile: AlphaMissenseR_1.5.3.zip PackageFileSize: 2.592 MiB