Package: AlphaMissenseR Version: 1.5.3 Command: /home/biocbuild/bbs-3.22-bioc/R/bin/R CMD check --install=check:AlphaMissenseR.install-out.txt --library=/home/biocbuild/bbs-3.22-bioc/R/site-library --timings AlphaMissenseR_1.5.3.tar.gz StartedAt: 2025-09-10 21:38:20 -0400 (Wed, 10 Sep 2025) EndedAt: 2025-09-10 21:38:26 -0400 (Wed, 10 Sep 2025) EllapsedTime: 6.0 seconds RetCode: 1 Status: ERROR CheckDir: AlphaMissenseR.Rcheck Warnings: NA