Package: AlphaBeta Version: 1.25.0 Command: /home/biocbuild/bbs-3.23-bioc/R/bin/R CMD INSTALL AlphaBeta StartedAt: 2025-11-07 15:09:00 -0500 (Fri, 07 Nov 2025) EndedAt: 2025-11-07 15:09:20 -0500 (Fri, 07 Nov 2025) EllapsedTime: 19.7 seconds RetCode: 0 Status: OK