Package: AlphaBeta Version: 1.25.0 Command: /home/biocbuild/bbs-3.23-bioc/R/bin/R CMD build --keep-empty-dirs --no-resave-data AlphaBeta StartedAt: 2025-11-07 16:09:47 -0500 (Fri, 07 Nov 2025) EndedAt: 2025-11-07 16:14:28 -0500 (Fri, 07 Nov 2025) EllapsedTime: 280.3 seconds RetCode: 0 Status: OK PackageFile: AlphaBeta_1.25.0.tar.gz PackageFileSize: 2.476 MiB