Package: AllelicImbalance Version: 1.47.0 Command: /home/biocbuild/bbs-3.22-bioc/R/bin/R CMD INSTALL AllelicImbalance StartedAt: 2025-10-15 15:51:20 -0400 (Wed, 15 Oct 2025) EndedAt: 2025-10-15 15:52:35 -0400 (Wed, 15 Oct 2025) EllapsedTime: 75.0 seconds RetCode: 0 Status: OK