Package: AllelicImbalance Version: 1.47.0 Command: /home/biocbuild/bbs-3.22-bioc/R/bin/R CMD build --keep-empty-dirs --no-resave-data --md5 AllelicImbalance StartedAt: 2025-10-15 16:17:46 -0400 (Wed, 15 Oct 2025) EndedAt: 2025-10-15 16:20:15 -0400 (Wed, 15 Oct 2025) EllapsedTime: 149.1 seconds RetCode: 0 Status: OK PackageFile: AllelicImbalance_1.47.0.tar.gz PackageFileSize: 779.1 KiB