Package: AgiMicroRna Version: 2.61.0 Command: /home/biocbuild/bbs-3.23-bioc/R/bin/R CMD INSTALL AgiMicroRna StartedAt: 2025-11-02 15:55:10 -0500 (Sun, 02 Nov 2025) EndedAt: 2025-11-02 15:56:13 -0500 (Sun, 02 Nov 2025) EllapsedTime: 63.5 seconds RetCode: 0 Status: OK