Package: AgiMicroRna Version: 2.61.0 Command: /home/biocbuild/bbs-3.23-bioc/R/bin/R CMD build --keep-empty-dirs --no-resave-data AgiMicroRna StartedAt: 2025-11-03 16:07:56 -0500 (Mon, 03 Nov 2025) EndedAt: 2025-11-03 16:09:58 -0500 (Mon, 03 Nov 2025) EllapsedTime: 122.1 seconds RetCode: 0 Status: OK PackageFile: AgiMicroRna_2.61.0.tar.gz PackageFileSize: 3.066 MiB