Package: AgiMicroRna Version: 2.59.0 Command: /Library/Frameworks/R.framework/Resources/bin/R CMD INSTALL AgiMicroRna StartedAt: 2025-10-14 15:25:50 -0400 (Tue, 14 Oct 2025) EndedAt: 2025-10-14 15:26:16 -0400 (Tue, 14 Oct 2025) EllapsedTime: 26.4 seconds RetCode: 0 Status: OK