Package: AgiMicroRna Version: 2.59.0 Command: /Library/Frameworks/R.framework/Resources/bin/R CMD build --keep-empty-dirs --no-resave-data AgiMicroRna StartedAt: 2025-10-14 15:36:20 -0400 (Tue, 14 Oct 2025) EndedAt: 2025-10-14 15:37:17 -0400 (Tue, 14 Oct 2025) EllapsedTime: 56.6 seconds RetCode: 0 Status: OK PackageFile: AgiMicroRna_2.59.0.tar.gz PackageFileSize: 3.067 MiB