Package: AffyRNADegradation Version: 1.57.0 Command: /home/biocbuild/bbs-3.23-bioc/R/bin/R CMD INSTALL AffyRNADegradation StartedAt: 2025-11-20 15:12:14 -0500 (Thu, 20 Nov 2025) EndedAt: 2025-11-20 15:12:17 -0500 (Thu, 20 Nov 2025) EllapsedTime: 3.2 seconds RetCode: 0 Status: OK