Package: AffyRNADegradation Version: 1.57.0 Command: /home/biocbuild/bbs-3.23-bioc/R/bin/R CMD build --keep-empty-dirs --no-resave-data AffyRNADegradation StartedAt: 2025-11-20 16:08:26 -0500 (Thu, 20 Nov 2025) EndedAt: 2025-11-20 16:09:56 -0500 (Thu, 20 Nov 2025) EllapsedTime: 90.1 seconds RetCode: 0 Status: OK PackageFile: AffyRNADegradation_1.57.0.tar.gz PackageFileSize: 365.7 KiB