Package: AffiXcan Version: 1.29.0 Command: /home/biocbuild/bbs-3.23-bioc/R/bin/R CMD build --keep-empty-dirs --no-resave-data AffiXcan StartedAt: 2025-11-20 16:07:57 -0500 (Thu, 20 Nov 2025) EndedAt: 2025-11-20 16:08:39 -0500 (Thu, 20 Nov 2025) EllapsedTime: 42.1 seconds RetCode: 0 Status: OK PackageFile: AffiXcan_1.29.0.tar.gz PackageFileSize: 2.372 MiB