Package: AffiXcan Version: 1.27.0 Command: rm -rf AffiXcan.buildbin-libdir && mkdir AffiXcan.buildbin-libdir && /Users/biocbuild/BBS/utils/build-universal.sh AffiXcan_1.27.0.tar.gz /Library/Frameworks/R.framework/Resources/bin/R AffiXcan.buildbin-libdir StartedAt: 2025-10-29 01:21:43 -0400 (Wed, 29 Oct 2025) EndedAt: 2025-10-29 01:22:22 -0400 (Wed, 29 Oct 2025) EllapsedTime: 39.3 seconds RetCode: 0 Status: OK PackageFile: AffiXcan_1.27.0.tgz PackageFileSize: 2.032 MiB