Package: AffiXcan Version: 1.27.0 Command: /Library/Frameworks/R.framework/Resources/bin/R CMD INSTALL AffiXcan StartedAt: 2025-10-20 15:13:49 -0400 (Mon, 20 Oct 2025) EndedAt: 2025-10-20 15:13:57 -0400 (Mon, 20 Oct 2025) EllapsedTime: 8.5 seconds RetCode: 0 Status: OK