Package: AffiXcan Version: 1.27.0 Command: /Library/Frameworks/R.framework/Resources/bin/R CMD build --keep-empty-dirs --no-resave-data AffiXcan StartedAt: 2025-10-20 15:35:39 -0400 (Mon, 20 Oct 2025) EndedAt: 2025-10-20 15:35:56 -0400 (Mon, 20 Oct 2025) EllapsedTime: 17.2 seconds RetCode: 0 Status: OK PackageFile: AffiXcan_1.27.0.tar.gz PackageFileSize: 2.372 MiB