Package: AffiXcan Version: 1.27.0 Command: rm -rf AffiXcan.buildbin-libdir && mkdir AffiXcan.buildbin-libdir && /Users/biocbuild/BBS/utils/build-universal.sh AffiXcan_1.27.0.tar.gz /Library/Frameworks/R.framework/Resources/bin/R AffiXcan.buildbin-libdir StartedAt: 2025-10-21 22:51:33 -0400 (Tue, 21 Oct 2025) EndedAt: 2025-10-21 22:51:44 -0400 (Tue, 21 Oct 2025) EllapsedTime: 10.2 seconds RetCode: 0 Status: OK PackageFile: AffiXcan_1.27.0.tgz PackageFileSize: 2.033 MiB