Package: AWFisher Version: 1.23.0 Command: /home/biocbuild/R/R/bin/R CMD build --keep-empty-dirs --no-resave-data AWFisher StartedAt: 2025-10-20 21:48:56 -0000 (Mon, 20 Oct 2025) EndedAt: 2025-10-20 21:49:29 -0000 (Mon, 20 Oct 2025) EllapsedTime: 33.0 seconds RetCode: 0 Status: OK PackageFile: AWFisher_1.23.0.tar.gz PackageFileSize: 1.344 MiB