Package: AWFisher Version: 1.23.0 Command: /home/biocbuild/bbs-3.22-bioc/R/bin/R CMD check --install=check:AWFisher.install-out.txt --library=/home/biocbuild/bbs-3.22-bioc/R/site-library --timings AWFisher_1.23.0.tar.gz StartedAt: 2025-10-27 21:09:38 -0400 (Mon, 27 Oct 2025) EndedAt: 2025-10-27 21:10:07 -0400 (Mon, 27 Oct 2025) EllapsedTime: 29.0 seconds RetCode: 0 Status: OK CheckDir: AWFisher.Rcheck Warnings: 0