Package: AWFisher Version: 1.25.0 Command: /home/biocbuild/bbs-3.23-bioc/R/bin/R CMD INSTALL AWFisher StartedAt: 2025-11-04 15:04:30 -0500 (Tue, 04 Nov 2025) EndedAt: 2025-11-04 15:04:47 -0500 (Tue, 04 Nov 2025) EllapsedTime: 16.7 seconds RetCode: 0 Status: OK