Package: AWFisher Version: 1.25.0 Command: /home/biocbuild/bbs-3.23-bioc/R/bin/R CMD build --keep-empty-dirs --no-resave-data AWFisher StartedAt: 2025-11-04 16:14:38 -0500 (Tue, 04 Nov 2025) EndedAt: 2025-11-04 16:15:00 -0500 (Tue, 04 Nov 2025) EllapsedTime: 22.0 seconds RetCode: 0 Status: OK PackageFile: AWFisher_1.25.0.tar.gz PackageFileSize: 1.384 MiB