Package: AWFisher Version: 1.23.0 Command: /Library/Frameworks/R.framework/Resources/bin/R CMD INSTALL AWFisher StartedAt: 2025-10-10 15:13:11 -0400 (Fri, 10 Oct 2025) EndedAt: 2025-10-10 15:14:02 -0400 (Fri, 10 Oct 2025) EllapsedTime: 51.4 seconds RetCode: 0 Status: OK