Package: AWFisher Version: 1.23.0 Command: /Library/Frameworks/R.framework/Resources/bin/R CMD build --keep-empty-dirs --no-resave-data AWFisher StartedAt: 2025-10-10 16:08:20 -0400 (Fri, 10 Oct 2025) EndedAt: 2025-10-10 16:08:57 -0400 (Fri, 10 Oct 2025) EllapsedTime: 36.5 seconds RetCode: 0 Status: OK PackageFile: AWFisher_1.23.0.tar.gz PackageFileSize: 1.399 MiB