Package: AWFisher Version: 1.23.0 Maintainer: Zhiguang Huo MaintainerEmail: zhuo at ufl.edu git_url: https://git.bioconductor.org/packages/AWFisher git_branch: devel git_last_commit: 8407a9d git_last_commit_date: 2025-04-15 11:47:49 -0400 (Tue, 15 Apr 2025)