Package: AWAggregator Version: 0.99.4 Command: /home/biocbuild/bbs-3.22-bioc/R/bin/R CMD check --install=check:AWAggregator.install-out.txt --library=/home/biocbuild/bbs-3.22-bioc/R/site-library --timings AWAggregator_0.99.4.tar.gz StartedAt: 2025-10-03 21:07:00 -0400 (Fri, 03 Oct 2025) EndedAt: 2025-10-03 21:15:49 -0400 (Fri, 03 Oct 2025) EllapsedTime: 529.0 seconds RetCode: 0 Status: OK CheckDir: AWAggregator.Rcheck Warnings: 0