Package: AWAggregator Version: 0.99.4 Command: /Library/Frameworks/R.framework/Resources/bin/R CMD check --install=check:AWAggregator.install-out.txt --library=/Library/Frameworks/R.framework/Resources/library --no-vignettes --timings AWAggregator_0.99.4.tar.gz StartedAt: 2025-10-16 18:29:46 -0400 (Thu, 16 Oct 2025) EndedAt: 2025-10-16 18:31:12 -0400 (Thu, 16 Oct 2025) EllapsedTime: 86.0 seconds RetCode: 0 Status: OK CheckDir: AWAggregator.Rcheck Warnings: 0