Package: AUCell Version: 1.33.0 Command: /home/biocbuild/bbs-3.23-bioc/R/bin/R CMD INSTALL AUCell StartedAt: 2025-11-16 15:30:15 -0500 (Sun, 16 Nov 2025) EndedAt: 2025-11-16 15:30:45 -0500 (Sun, 16 Nov 2025) EllapsedTime: 30.5 seconds RetCode: 0 Status: OK