Package: AUCell Version: 1.33.0 Command: /home/biocbuild/bbs-3.23-bioc/R/bin/R CMD build --keep-empty-dirs --no-resave-data AUCell StartedAt: 2025-11-16 16:15:30 -0500 (Sun, 16 Nov 2025) EndedAt: 2025-11-16 16:17:09 -0500 (Sun, 16 Nov 2025) EllapsedTime: 98.1 seconds RetCode: 0 Status: OK PackageFile: AUCell_1.33.0.tar.gz PackageFileSize: 1.877 MiB