Package: ATACseqTFEA Version: 1.13.0 Command: /home/biocbuild/bbs-3.23-bioc/R/bin/R CMD INSTALL ATACseqTFEA StartedAt: 2025-11-20 15:52:13 -0500 (Thu, 20 Nov 2025) EndedAt: 2025-11-20 15:52:55 -0500 (Thu, 20 Nov 2025) EllapsedTime: 41.8 seconds RetCode: 0 Status: OK