Package: ATACseqTFEA Version: 1.13.0 Command: /home/biocbuild/bbs-3.23-bioc/R/bin/R CMD build --keep-empty-dirs --no-resave-data ATACseqTFEA StartedAt: 2025-11-20 16:14:29 -0500 (Thu, 20 Nov 2025) EndedAt: 2025-11-20 16:16:17 -0500 (Thu, 20 Nov 2025) EllapsedTime: 108.1 seconds RetCode: 0 Status: OK PackageFile: ATACseqTFEA_1.13.0.tar.gz PackageFileSize: 4.47 MiB