Package: ATACseqTFEA Version: 1.11.1 Command: /Library/Frameworks/R.framework/Resources/bin/R CMD INSTALL ATACseqTFEA StartedAt: 2025-10-10 15:48:56 -0400 (Fri, 10 Oct 2025) EndedAt: 2025-10-10 15:49:55 -0400 (Fri, 10 Oct 2025) EllapsedTime: 58.6 seconds RetCode: 0 Status: OK