Package: ATACseqTFEA Version: 1.11.1 Command: /Library/Frameworks/R.framework/Resources/bin/R CMD build --keep-empty-dirs --no-resave-data ATACseqTFEA StartedAt: 2025-10-10 16:07:26 -0400 (Fri, 10 Oct 2025) EndedAt: 2025-10-10 16:09:34 -0400 (Fri, 10 Oct 2025) EllapsedTime: 127.9 seconds RetCode: 0 Status: OK PackageFile: ATACseqTFEA_1.11.1.tar.gz PackageFileSize: 4.412 MiB