Package: ATACseqTFEA Version: 1.11.1 Command: rm -rf ATACseqTFEA.buildbin-libdir && mkdir ATACseqTFEA.buildbin-libdir && /Users/biocbuild/BBS/utils/build-universal.sh ATACseqTFEA_1.11.1.tar.gz /Library/Frameworks/R.framework/Resources/bin/R ATACseqTFEA.buildbin-libdir StartedAt: 2025-10-11 02:17:27 -0400 (Sat, 11 Oct 2025) EndedAt: 2025-10-11 02:18:30 -0400 (Sat, 11 Oct 2025) EllapsedTime: 63.1 seconds RetCode: 0 Status: OK PackageFile: ATACseqTFEA_1.11.1.tgz PackageFileSize: 4.862 MiB