Package: ATACseqQC Version: 1.33.1 Command: /home/biocbuild/R/R/bin/R CMD INSTALL ATACseqQC StartedAt: 2025-09-29 21:32:57 -0000 (Mon, 29 Sep 2025) EndedAt: 2025-09-29 21:34:12 -0000 (Mon, 29 Sep 2025) EllapsedTime: 75.0 seconds RetCode: 0 Status: OK