Package: ATACseqQC Version: 1.33.1 Command: /home/biocbuild/R/R/bin/R CMD build --keep-empty-dirs --no-resave-data ATACseqQC StartedAt: 2025-09-29 22:01:05 -0000 (Mon, 29 Sep 2025) EndedAt: 2025-09-29 22:02:39 -0000 (Mon, 29 Sep 2025) EllapsedTime: 94.0 seconds RetCode: 1 Status: ERROR PackageFile: None PackageFileSize: NA