Package: ATACseqQC Version: 1.35.0 Command: /home/biocbuild/bbs-3.23-bioc/R/bin/R CMD INSTALL ATACseqQC StartedAt: 2025-11-04 15:51:29 -0500 (Tue, 04 Nov 2025) EndedAt: 2025-11-04 15:51:41 -0500 (Tue, 04 Nov 2025) EllapsedTime: 12.5 seconds RetCode: 1 Status: ERROR