Package: ATACseqQC Version: 1.35.0 Command: /home/biocbuild/bbs-3.23-bioc/R/bin/R CMD build --keep-empty-dirs --no-resave-data ATACseqQC StartedAt: 2025-11-04 16:13:27 -0500 (Tue, 04 Nov 2025) EndedAt: 2025-11-04 16:13:39 -0500 (Tue, 04 Nov 2025) EllapsedTime: 12.0 seconds RetCode: 1 Status: ERROR PackageFile: None PackageFileSize: NA