############################################################################## ############################################################################## ### ### Running command: ### ### /home/biocbuild/bbs-3.23-bioc/R/bin/R CMD build --keep-empty-dirs --no-resave-data ATACseqQC ### ############################################################################## ############################################################################## * checking for file ‘ATACseqQC/DESCRIPTION’ ... OK * preparing ‘ATACseqQC’: * checking DESCRIPTION meta-information ... OK * installing the package (it is needed to build vignettes) ----------------------------------- * installing *source* package ‘ATACseqQC’ ... ** this is package ‘ATACseqQC’ version ‘1.35.0’ ** using staged installation ** R ** inst ** byte-compile and prepare package for lazy loading Error: object ‘microRNAs’ is not exported by 'namespace:GenomicFeatures' Execution halted ERROR: lazy loading failed for package ‘ATACseqQC’ * removing ‘/tmp/RtmpCIeby7/Rinst1715668799e9/ATACseqQC’ ----------------------------------- ERROR: package installation failed