Package: ASpli Version: 2.21.0 Command: /home/biocbuild/bbs-3.23-bioc/R/bin/R CMD INSTALL ASpli StartedAt: 2025-11-21 15:48:37 -0500 (Fri, 21 Nov 2025) EndedAt: 2025-11-21 15:49:41 -0500 (Fri, 21 Nov 2025) EllapsedTime: 64.0 seconds RetCode: 0 Status: OK