Package: ASpli Version: 2.21.0 Command: /home/biocbuild/bbs-3.23-bioc/R/bin/R CMD build --keep-empty-dirs --no-resave-data ASpli StartedAt: 2025-11-21 16:14:24 -0500 (Fri, 21 Nov 2025) EndedAt: 2025-11-21 16:16:55 -0500 (Fri, 21 Nov 2025) EllapsedTime: 151.1 seconds RetCode: 0 Status: OK PackageFile: ASpli_2.21.0.tar.gz PackageFileSize: 4.778 MiB