Package: ASpli Version: 2.19.0 Command: /Library/Frameworks/R.framework/Resources/bin/R CMD INSTALL ASpli StartedAt: 2025-10-20 15:25:42 -0400 (Mon, 20 Oct 2025) EndedAt: 2025-10-20 15:26:08 -0400 (Mon, 20 Oct 2025) EllapsedTime: 25.3 seconds RetCode: 0 Status: OK