Package: ASpli Version: 2.19.0 Command: /Library/Frameworks/R.framework/Resources/bin/R CMD build --keep-empty-dirs --no-resave-data ASpli StartedAt: 2025-10-21 15:39:47 -0400 (Tue, 21 Oct 2025) EndedAt: 2025-10-21 15:40:54 -0400 (Tue, 21 Oct 2025) EllapsedTime: 66.7 seconds RetCode: 0 Status: OK PackageFile: ASpli_2.19.0.tar.gz PackageFileSize: 4.778 MiB