Package: ASURAT Version: 1.15.0 Command: /home/biocbuild/bbs-3.23-bioc/R/bin/R CMD INSTALL ASURAT StartedAt: 2025-11-20 15:23:12 -0500 (Thu, 20 Nov 2025) EndedAt: 2025-11-20 15:23:45 -0500 (Thu, 20 Nov 2025) EllapsedTime: 32.8 seconds RetCode: 0 Status: OK