Package: ASURAT Version: 1.15.0 Command: /home/biocbuild/bbs-3.23-bioc/R/bin/R CMD build --keep-empty-dirs --no-resave-data ASURAT StartedAt: 2025-11-20 16:14:26 -0500 (Thu, 20 Nov 2025) EndedAt: 2025-11-20 16:27:02 -0500 (Thu, 20 Nov 2025) EllapsedTime: 755.6 seconds RetCode: 0 Status: OK PackageFile: ASURAT_1.15.0.tar.gz PackageFileSize: 1.635 MiB