Package: ASURAT Version: 1.13.1 Command: /Library/Frameworks/R.framework/Resources/bin/R CMD INSTALL ASURAT StartedAt: 2025-10-16 15:51:54 -0400 (Thu, 16 Oct 2025) EndedAt: 2025-10-16 15:52:38 -0400 (Thu, 16 Oct 2025) EllapsedTime: 44.2 seconds RetCode: 0 Status: OK