Package: ASURAT Version: 1.13.1 Command: /Library/Frameworks/R.framework/Resources/bin/R CMD build --keep-empty-dirs --no-resave-data ASURAT StartedAt: 2025-10-17 16:02:39 -0400 (Fri, 17 Oct 2025) EndedAt: 2025-10-17 16:21:07 -0400 (Fri, 17 Oct 2025) EllapsedTime: 1107.8 seconds RetCode: 1 Status: ERROR PackageFile: None PackageFileSize: NA