Package: ASURAT Version: 1.13.1 Command: rm -rf ASURAT.buildbin-libdir && mkdir ASURAT.buildbin-libdir && /Users/biocbuild/BBS/utils/build-universal.sh ASURAT_1.13.1.tar.gz /Library/Frameworks/R.framework/Resources/bin/R ASURAT.buildbin-libdir StartedAt: 2025-10-16 02:40:46 -0400 (Thu, 16 Oct 2025) EndedAt: 2025-10-16 02:41:36 -0400 (Thu, 16 Oct 2025) EllapsedTime: 49.7 seconds RetCode: 0 Status: OK PackageFile: ASURAT_1.13.1.tgz PackageFileSize: 3.622 MiB