Package: ASURAT Version: 1.13.0 Command: /Library/Frameworks/R.framework/Resources/bin/R CMD INSTALL ASURAT StartedAt: 2025-09-30 15:15:16 -0400 (Tue, 30 Sep 2025) EndedAt: 2025-09-30 15:15:29 -0400 (Tue, 30 Sep 2025) EllapsedTime: 12.6 seconds RetCode: 0 Status: OK