Package: ASURAT Version: 1.13.0 Command: /Library/Frameworks/R.framework/Resources/bin/R CMD build --keep-empty-dirs --no-resave-data ASURAT StartedAt: 2025-09-30 15:39:23 -0400 (Tue, 30 Sep 2025) EndedAt: 2025-09-30 15:44:42 -0400 (Tue, 30 Sep 2025) EllapsedTime: 319.4 seconds RetCode: 0 Status: OK PackageFile: ASURAT_1.13.0.tar.gz PackageFileSize: 1.751 MiB